BEGIN:VCALENDAR
VERSION:2.0
PRODID:-//Wapi2go - ECPv6.0.7.1//NONSGML v1.0//EN
CALSCALE:GREGORIAN
METHOD:PUBLISH
X-ORIGINAL-URL:https://wapi2go.com
X-WR-CALDESC:Events for Wapi2go
REFRESH-INTERVAL;VALUE=DURATION:PT1H
X-Robots-Tag:noindex
X-PUBLISHED-TTL:PT1H
BEGIN:VTIMEZONE
TZID:UTC
BEGIN:STANDARD
TZOFFSETFROM:+0000
TZOFFSETTO:+0000
TZNAME:UTC
DTSTART:20240101T000000
END:STANDARD
END:VTIMEZONE
BEGIN:VEVENT
DTSTART;TZID=UTC:20240522T183000
DTEND;TZID=UTC:20240522T183000
DTSTAMP:20260422T040946
CREATED:20240518T043227Z
LAST-MODIFIED:20240518T043227Z
UID:10000913-1716402600-1716402600@wapi2go.com
SUMMARY:ALKASUS
DESCRIPTION:
URL:https://wapi2go.com/event/alkasus/
LOCATION:Alliance Française de Dar\, Alliance Francaise\, Dar es Salaam\, Dar Es Salaam\, Tanzania\, United Republic of
CATEGORIES:Visual Arts
ATTACH;FMTTYPE=image/jpeg:https://wapi2go.com/wp-content/uploads/2024/05/ALKASUS.jpeg
GEO:-6.8065091243002;39.286649768081
X-APPLE-STRUCTURED-LOCATION;VALUE=URI;X-ADDRESS=Alliance Française de Dar Alliance Francaise Dar es Salaam Dar Es Salaam Tanzania United Republic of;X-APPLE-RADIUS=500;X-TITLE=Alliance Francaise\, Dar es Salaam:geo:39.286649768081,-6.8065091243002
END:VEVENT
END:VCALENDAR