BEGIN:VCALENDAR
VERSION:2.0
PRODID:-//Wapi2go - ECPv6.0.7.1//NONSGML v1.0//EN
CALSCALE:GREGORIAN
METHOD:PUBLISH
X-WR-CALNAME:Wapi2go
X-ORIGINAL-URL:https://wapi2go.com
X-WR-CALDESC:Events for Wapi2go
REFRESH-INTERVAL;VALUE=DURATION:PT1H
X-Robots-Tag:noindex
X-PUBLISHED-TTL:PT1H
BEGIN:VTIMEZONE
TZID:UTC
BEGIN:STANDARD
TZOFFSETFROM:+0000
TZOFFSETTO:+0000
TZNAME:UTC
DTSTART:20230101T000000
END:STANDARD
END:VTIMEZONE
BEGIN:VEVENT
DTSTART;TZID=UTC:20230306T093000
DTEND;TZID=UTC:20230306T120000
DTSTAMP:20260421T141457
CREATED:20230224T074519Z
LAST-MODIFIED:20230224T074614Z
UID:10000058-1678095000-1678104000@wapi2go.com
SUMMARY:Batiki Workshop
DESCRIPTION:Join us for the batik workshop on monday 06 of MARCH 2023 @ ATD OFFICE IN MWANANYAMALA\, KAMBANGWA STREET \nPARTCIPATION FEES; 25000TZS
URL:https://wapi2go.com/event/batiki-workshop/
LOCATION:Kambangwa Street\, mwnanyamala kambangwa street\, Dar Es Salaam\, Tanzania\, United Republic of
CATEGORIES:Visual Arts
ATTACH;FMTTYPE=image/png:https://wapi2go.com/wp-content/uploads/2023/02/batiki-workshop.png
ORGANIZER;CN="ATD%20Quart%20Monde":MAILTO:national.team.tanzania@atd-fourthworld.org
END:VEVENT
END:VCALENDAR