BEGIN:VCALENDAR
VERSION:2.0
PRODID:-//Wapi2go - ECPv6.0.7.1//NONSGML v1.0//EN
CALSCALE:GREGORIAN
METHOD:PUBLISH
X-WR-CALNAME:Wapi2go
X-ORIGINAL-URL:https://wapi2go.com
X-WR-CALDESC:Events for Wapi2go
REFRESH-INTERVAL;VALUE=DURATION:PT1H
X-Robots-Tag:noindex
X-PUBLISHED-TTL:PT1H
BEGIN:VTIMEZONE
TZID:UTC
BEGIN:STANDARD
TZOFFSETFROM:+0000
TZOFFSETTO:+0000
TZNAME:UTC
DTSTART:20240101T000000
END:STANDARD
END:VTIMEZONE
BEGIN:VEVENT
DTSTART;TZID=UTC:20240316T190000
DTEND;TZID=UTC:20240316T190000
DTSTAMP:20260424T113830
CREATED:20240305T035123Z
LAST-MODIFIED:20240305T035123Z
UID:10000823-1710615600-1710615600@wapi2go.com
SUMMARY:CHEZA MAPEMA VOL. 1
DESCRIPTION:Dear music lovers!\nSave the date! \nCheza Mapema Vol. 1 \nCome to Cheza Mapema (Dance Early) with us on 16 March 2024 at 305 Karafu in Oysterbay. \nDoors open at 7:30pm.\nMusic from 8:00pm to Midnight. \nJoin us for a night of global club sounds – classic & contemporary – dancefloor shenanigans\, and an overall banging time. \nEntrance 20k \nDJs : Mpaka Last – JB – Nasty Nate
URL:https://wapi2go.com/event/cheza-mapema-vol-1/
LOCATION:305 Karafuu\, 305 Karafuu\, Dar es Salaam\, Dar es Salaam\, Tanzania\, United Republic of
CATEGORIES:Music & Concerts
ATTACH;FMTTYPE=image/jpeg:https://wapi2go.com/wp-content/uploads/2024/03/cheza-mapema.jpg
END:VEVENT
END:VCALENDAR