BEGIN:VCALENDAR
VERSION:2.0
PRODID:-//Wapi2go - ECPv6.0.7.1//NONSGML v1.0//EN
CALSCALE:GREGORIAN
METHOD:PUBLISH
X-ORIGINAL-URL:https://wapi2go.com
X-WR-CALDESC:Events for Wapi2go
REFRESH-INTERVAL;VALUE=DURATION:PT1H
X-Robots-Tag:noindex
X-PUBLISHED-TTL:PT1H
BEGIN:VTIMEZONE
TZID:UTC
BEGIN:STANDARD
TZOFFSETFROM:+0000
TZOFFSETTO:+0000
TZNAME:UTC
DTSTART:20250101T000000
END:STANDARD
END:VTIMEZONE
BEGIN:VEVENT
DTSTART;TZID=UTC:20250621T180000
DTEND;TZID=UTC:20250621T233000
DTSTAMP:20260421T171250
CREATED:20250619T074742Z
LAST-MODIFIED:20250619T074742Z
UID:10001663-1750528800-1750548600@wapi2go.com
SUMMARY:Samaki Festival Bagamoyo
DESCRIPTION:Join us on June 21st in the stunning Old Boma Bagamoyo for the Samaki Festival! 🎣✨ \nDive into the excitement as we celebrate our vibrant fishing culture with mouthwatering seafood\, live music that will get you dancing\, and tons of fun activities for all ages! 🥳🎶 \nThis is not just an event; it’s a celebration! Grab your friends and family\, and let’s create amazing memories together! 💖 \n📅 *Date:* June 21st\n📍 *Where:* Old Boma Bagamoyo \nSpread the word and tag your squad! Let’s make this festival the talk of the town! Can’t wait to see you there! 🐟💙
URL:https://wapi2go.com/event/samaki-festival-bagamoyo/
LOCATION:Bagamoyo Old Boma\, Bagamoyo\, Tanzania\, United Republic of
CATEGORIES:Food,Music & Concerts
ATTACH;FMTTYPE=image/jpeg:https://wapi2go.com/wp-content/uploads/2025/06/Samaki-Festival.jpg
END:VEVENT
END:VCALENDAR