BEGIN:VCALENDAR
VERSION:2.0
PRODID:-//Wapi2go - ECPv6.0.7.1//NONSGML v1.0//EN
CALSCALE:GREGORIAN
METHOD:PUBLISH
X-ORIGINAL-URL:https://wapi2go.com
X-WR-CALDESC:Events for Wapi2go
REFRESH-INTERVAL;VALUE=DURATION:PT1H
X-Robots-Tag:noindex
X-PUBLISHED-TTL:PT1H
BEGIN:VTIMEZONE
TZID:UTC
BEGIN:STANDARD
TZOFFSETFROM:+0000
TZOFFSETTO:+0000
TZNAME:UTC
DTSTART:20240101T000000
END:STANDARD
END:VTIMEZONE
BEGIN:VEVENT
DTSTART;TZID=UTC:20240928T080000
DTEND;TZID=UTC:20240928T080000
DTSTAMP:20260421T130223
CREATED:20240927T095520Z
LAST-MODIFIED:20240927T095520Z
UID:10001116-1727510400-1727510400@wapi2go.com
SUMMARY:EXIM BIMA FESTIVAL!
DESCRIPTION:Exim Bima Festival 2024 \nBank ya Exim\, ikishirikiana na wadau mbalimbali wa sekta ya Bima nchini\,wanakuletea EXIM BIMA FESTIVAL 2024. \nTukane viwanja vya Gymkhana\, Jumamosi ya tarehe 28 mwezi huu kwenye Tamasha hii kubwa la aina yake. \nNjoo ushuhudie michuano ya mpira wamiguu kwa wanaume ambapo timu zitakazochuana ni pamoja na Bongo movie Fc\, Wasafi Fc\, Exim Bank Fc na nyingine nyingi.
URL:https://wapi2go.com/event/exim-bima-festival/
LOCATION:Gymkhana Club\, Gymkhana Club\, Dar es Salaam\, Tanzania\, United Republic of
CATEGORIES:Music & Concerts
ATTACH;FMTTYPE=image/jpeg:https://wapi2go.com/wp-content/uploads/2024/09/Exim-Bank.jpeg
END:VEVENT
END:VCALENDAR