BEGIN:VCALENDAR
VERSION:2.0
PRODID:-//Wapi2go - ECPv6.0.7.1//NONSGML v1.0//EN
CALSCALE:GREGORIAN
METHOD:PUBLISH
X-WR-CALNAME:Wapi2go
X-ORIGINAL-URL:https://wapi2go.com
X-WR-CALDESC:Events for Wapi2go
REFRESH-INTERVAL;VALUE=DURATION:PT1H
X-Robots-Tag:noindex
X-PUBLISHED-TTL:PT1H
BEGIN:VTIMEZONE
TZID:Africa/Dar_es_Salaam
BEGIN:STANDARD
TZOFFSETFROM:+0300
TZOFFSETTO:+0300
TZNAME:EAT
DTSTART:20260101T000000
END:STANDARD
END:VTIMEZONE
BEGIN:VEVENT
DTSTART;TZID=Africa/Dar_es_Salaam:20260430T190000
DTEND;TZID=Africa/Dar_es_Salaam:20260430T190000
DTSTAMP:20260420T071353
CREATED:20260419T170333Z
LAST-MODIFIED:20260419T170504Z
UID:10002114-1777575600-1777575600@wapi2go.com
SUMMARY:QUIZ NIGHT!!
DESCRIPTION:Think you’ve got what it takes to take home the crown? \nIt’s time to gather your squad\, sharpen those wits and join us for a night of trivia\, laughs and great food! Whether you’re a general knowledge pro or just here for the best team name prize\, we’ve got a seat (and a challenge) waiting for you. \nThe details:\n🗓 Thursday\, 30th April\n⏰ 7:00 PM Onwards\n📍 Hug a Mug Café\, Masaki \nSpaces are limited to 12 teams\, so don’t wait until the last minute! Swipe left for all the info on prizes\, rounds\, and how to sign up. 🧠✨ \nTag your smartest friends below! 👇 \nBook today!\n📞 : 0767 644 444\n📍: Hug a Mug Café\, Haile Selassie Road\, Masaki \n#HugAMug #QuizNight #TriviaTanzania #MasakiVibes
URL:https://wapi2go.com/event/quiz-night-3/
LOCATION:Hug A Mug Cafe\, Hug A Mug Cafe\, Dar es salaam\, Dar Es Salaam\, Tanzania\, United Republic of
CATEGORIES:Food,Games
ATTACH;FMTTYPE=image/jpeg:https://wapi2go.com/wp-content/uploads/2026/04/Quiz-Night.jpg
END:VEVENT
END:VCALENDAR