BEGIN:VCALENDAR
VERSION:2.0
PRODID:-//Wapi2go - ECPv6.0.7.1//NONSGML v1.0//EN
CALSCALE:GREGORIAN
METHOD:PUBLISH
X-ORIGINAL-URL:https://wapi2go.com
X-WR-CALDESC:Events for Wapi2go
REFRESH-INTERVAL;VALUE=DURATION:PT1H
X-Robots-Tag:noindex
X-PUBLISHED-TTL:PT1H
BEGIN:VTIMEZONE
TZID:UTC
BEGIN:STANDARD
TZOFFSETFROM:+0000
TZOFFSETTO:+0000
TZNAME:UTC
DTSTART:20240101T000000
END:STANDARD
END:VTIMEZONE
BEGIN:VEVENT
DTSTART;VALUE=DATE:20240415
DTEND;VALUE=DATE:20240416
DTSTAMP:20260424T171829
CREATED:20240229T062858Z
LAST-MODIFIED:20240229T062858Z
UID:10000817-1713139200-1713225599@wapi2go.com
SUMMARY:ACCES SHOWCASES
DESCRIPTION:The Music In Africa Conference for Collaborations\, Exchange and Showcases (ACCES) invites African musicians based on the continent to apply for an opportunity to showcase at ACCES 2024 in Kigali\, Rwanda\, from 14 to 16 November.\n.\nOrganised by the Music In Africa Foundation (MIAF) in different cities across the continent\, ACCES offers a platform for performers to showcase their talent to a diverse audience of local and international delegates\, including festival curators\, promoters\, booking agents\, record labels and other influential industry professionals.\n..\nThe application deadline is 15 April 2024 (midnight CAT).
URL:https://wapi2go.com/event/acces-showcases/
CATEGORIES:Music & Concerts
ATTACH;FMTTYPE=image/jpeg:https://wapi2go.com/wp-content/uploads/2024/02/ACCES.jpeg
END:VEVENT
END:VCALENDAR