BEGIN:VCALENDAR
VERSION:2.0
PRODID:-//Wapi2go - ECPv6.0.7.1//NONSGML v1.0//EN
CALSCALE:GREGORIAN
METHOD:PUBLISH
X-ORIGINAL-URL:https://wapi2go.com
X-WR-CALDESC:Events for Wapi2go
REFRESH-INTERVAL;VALUE=DURATION:PT1H
X-Robots-Tag:noindex
X-PUBLISHED-TTL:PT1H
BEGIN:VTIMEZONE
TZID:UTC
BEGIN:STANDARD
TZOFFSETFROM:+0000
TZOFFSETTO:+0000
TZNAME:UTC
DTSTART:20240101T000000
END:STANDARD
END:VTIMEZONE
BEGIN:VEVENT
DTSTART;TZID=UTC:20241102T153000
DTEND;TZID=UTC:20241102T180000
DTSTAMP:20260421T130129
CREATED:20241029T174955Z
LAST-MODIFIED:20241029T174955Z
UID:10001179-1730561400-1730570400@wapi2go.com
SUMMARY:PAINT AND SIP: MUSLIMAH SISTERHOOD
DESCRIPTION:Paint and Sip With Muslimah Sisterhood. Come Join us this Saturday for Paint and Sip and make more memories with mindful Muslim sisters together💌. \nFor Muslim sisters only. \nFor Booking please contact 0781844950. \nPrice: Tsh. 50\,000/=  Inclusive of everything. \n10 slots available. \n 
URL:https://wapi2go.com/event/paint-and-sip-muslimah-sisterhood/
LOCATION:Masaki\,Dar es Salaam\, Masaki\, Dar es Salaam\, Dar es Salaam\, Tanzania\, United Republic of
CATEGORIES:Visual Arts
ATTACH;FMTTYPE=image/png:https://wapi2go.com/wp-content/uploads/2024/10/Screen-Shot-2024-10-29-at-23.30.03.png
END:VEVENT
END:VCALENDAR