BEGIN:VCALENDAR
VERSION:2.0
PRODID:-//Wapi2go - ECPv6.0.7.1//NONSGML v1.0//EN
CALSCALE:GREGORIAN
METHOD:PUBLISH
X-ORIGINAL-URL:https://wapi2go.com
X-WR-CALDESC:Events for Wapi2go
REFRESH-INTERVAL;VALUE=DURATION:PT1H
X-Robots-Tag:noindex
X-PUBLISHED-TTL:PT1H
BEGIN:VTIMEZONE
TZID:Africa/Dar_es_Salaam
BEGIN:STANDARD
TZOFFSETFROM:+0300
TZOFFSETTO:+0300
TZNAME:EAT
DTSTART:20250101T000000
END:STANDARD
END:VTIMEZONE
BEGIN:VEVENT
DTSTART;TZID=Africa/Dar_es_Salaam:20250830T090000
DTEND;TZID=Africa/Dar_es_Salaam:20250830T113000
DTSTAMP:20260421T125932
CREATED:20250829T214010Z
LAST-MODIFIED:20250829T214010Z
UID:10001778-1756544400-1756553400@wapi2go.com
SUMMARY:TEDDY BEAR PICNIC
DESCRIPTION:@nzuarts is bringing creativity to the Teddy Bear Picnic! ✨🐻🎨 \nWe’re so excited to join hands with @dia_tanzania for a fun-filled morning of art\, imagination & community spirit! 💛 \n🖌️ Kids will enjoy hands-on art activities with us while also having a blast with face painting\, jumping castles & yummy treats! 🎪🎭🍴 \n📅 Saturday\, 30th August\n⏰ 9:30 AM – 11:30 AM\n📍 Manara Road\, Ada Estate \n💛 Don’t forget to bring a toy to donate – all toys go to support malaika kids. Together\, let’s make art\, smiles & memories! \n#NZUarts #ArtWithKids #TeddyBearPicnic #DarEsSalaamEvents #KidsCrafts #DarParents #CreativeKids #FamilyArtTime #DarEsSalaamWithKids #ArtFeelsLikeHome #DarEvents #MalaikaKids #ArtForACause
URL:https://wapi2go.com/event/teddy-bear-picnic/
LOCATION:Manara Road\, Ada Estate\, Manara Road\, Ada Estate\, Dar es Salaam\, Tanzania\, United Republic of
CATEGORIES:Crafts,Games,Visual Arts
ATTACH;FMTTYPE=image/jpeg:https://wapi2go.com/wp-content/uploads/2025/08/Teddy-Bear-Picnic.jpg
END:VEVENT
END:VCALENDAR