BEGIN:VCALENDAR
VERSION:2.0
PRODID:-//Wapi2go - ECPv6.0.7.1//NONSGML v1.0//EN
CALSCALE:GREGORIAN
METHOD:PUBLISH
X-ORIGINAL-URL:https://wapi2go.com
X-WR-CALDESC:Events for Wapi2go
REFRESH-INTERVAL;VALUE=DURATION:PT1H
X-Robots-Tag:noindex
X-PUBLISHED-TTL:PT1H
BEGIN:VTIMEZONE
TZID:UTC
BEGIN:STANDARD
TZOFFSETFROM:+0000
TZOFFSETTO:+0000
TZNAME:UTC
DTSTART:20240101T000000
END:STANDARD
END:VTIMEZONE
BEGIN:VEVENT
DTSTART;TZID=UTC:20240406T170000
DTEND;TZID=UTC:20240406T180000
DTSTAMP:20260424T112924
CREATED:20240404T091905Z
LAST-MODIFIED:20240404T091905Z
UID:10000865-1712422800-1712426400@wapi2go.com
SUMMARY:HOME DANCE PRODUCTION
DESCRIPTION:What is the feeling you get when you arrive at a place and feel at peace\, with the people and the environment?\nHome\, right? \nHome Dance Production is\, as the words suggest a dance show that speaks into the heart that home is not just a place but a feeling sincere to the mind and heart.\nWith captivating dances in and around the ‘Home’\, this production promises nothing but the best entertainment and invigorating motions to keep the audiences at the edge of their seats; laughing\, crying and anticipating the next moment.\nThe show immerses the audience in a state of thought to bring into their vision the essences of home. \nFor home is a place but a feel.
URL:https://wapi2go.com/event/home-dance-production/
LOCATION:The Little Theatre\, Little Theatre\, Dar es Salaam\, Dar Es Salaam
CATEGORIES:Dance
ATTACH;FMTTYPE=image/png:https://wapi2go.com/wp-content/uploads/2024/04/new-dance.png
ORGANIZER;CN="Origins%20Dance%20Company%2C%20Kenya":MAILTO:origins@academyonline.me
END:VEVENT
END:VCALENDAR