BEGIN:VCALENDAR
VERSION:2.0
PRODID:-//Wapi2go - ECPv6.0.7.1//NONSGML v1.0//EN
CALSCALE:GREGORIAN
METHOD:PUBLISH
X-ORIGINAL-URL:https://wapi2go.com
X-WR-CALDESC:Events for Wapi2go
REFRESH-INTERVAL;VALUE=DURATION:PT1H
X-Robots-Tag:noindex
X-PUBLISHED-TTL:PT1H
BEGIN:VTIMEZONE
TZID:UTC
BEGIN:STANDARD
TZOFFSETFROM:+0000
TZOFFSETTO:+0000
TZNAME:UTC
DTSTART:20240101T000000
END:STANDARD
END:VTIMEZONE
BEGIN:VEVENT
DTSTART;VALUE=DATE:20240329
DTEND;VALUE=DATE:20240401
DTSTAMP:20260424T141853
CREATED:20240318T022034Z
LAST-MODIFIED:20240318T022034Z
UID:10000845-1711670400-1711929599@wapi2go.com
SUMMARY:EASTER EDITION - KISHERU JUNGLE PARTY
DESCRIPTION:Are you ready for this year’s 1st Jungle Party?? We bringing you another exciting EASTER EDITION of the KISHERU JUNGLE PARTY on the 29th-31st of March! Time is moving and the dates are almost here! \nUnlike previous years\, this time Kisheru Jungle party will be three days of fun and amazing vibes From different people all over the world! \nAnd together with @lightartclub team all the way from Nairobi Kenya we’re bringing birthdays with purpose mini event to the party since I’ll be celebrating my birthday with everyone born in March but this time in a meaningful and impactful way that positively contributes to our community. \nMake sure you pay for your tickets before 25th of March! \nDon’t miss out this Party!
URL:https://wapi2go.com/event/easter-edition-kisheru-jungle-party/
LOCATION:KIKULETWA HOTSPRING\, Kikuletwa Hotspring\, Arusha\, ARUSHA\, Tanzania\, United Republic of
CATEGORIES:Visual Arts
ATTACH;FMTTYPE=image/jpeg:https://wapi2go.com/wp-content/uploads/2024/03/KISHERU-JUNGLE-PARTY.jpeg
END:VEVENT
END:VCALENDAR