BEGIN:VCALENDAR
VERSION:2.0
PRODID:-//Wapi2go - ECPv6.0.7.1//NONSGML v1.0//EN
CALSCALE:GREGORIAN
METHOD:PUBLISH
X-WR-CALNAME:Wapi2go
X-ORIGINAL-URL:https://wapi2go.com
X-WR-CALDESC:Events for Wapi2go
REFRESH-INTERVAL;VALUE=DURATION:PT1H
X-Robots-Tag:noindex
X-PUBLISHED-TTL:PT1H
BEGIN:VTIMEZONE
TZID:UTC
BEGIN:STANDARD
TZOFFSETFROM:+0000
TZOFFSETTO:+0000
TZNAME:UTC
DTSTART:20240101T000000
END:STANDARD
END:VTIMEZONE
BEGIN:VEVENT
DTSTART;TZID=UTC:20241207T150000
DTEND;TZID=UTC:20241207T150000
DTSTAMP:20260422T005455
CREATED:20241205T035710Z
LAST-MODIFIED:20241205T035710Z
UID:10001263-1733583600-1733583600@wapi2go.com
SUMMARY:SIP & POUR EXPERIENCE
DESCRIPTION:Join us for a Sip n Pour experience!  7TH DEC SAT afternoon full of fun\, Resin and more ! We have a relaxed step by step process guiding you in creating your masterpiece . \nFeel free to customize your colors and make it your own! \nNo experience required! \nOpen to all levels from beginners to advanced\, adults and ages 12+. \nBOOKINGS essential to secure your spot. Kindly book via text +255 69 205 3771. Limited space available.
URL:https://wapi2go.com/event/sip-pour-experience/
LOCATION:42 Msasani Rd\, Msasani Rd\, 42\, Dar es Salaam\, Tanzania\, United Republic of
CATEGORIES:Visual Arts
ATTACH;FMTTYPE=image/png:https://wapi2go.com/wp-content/uploads/2024/12/Sip-Pour.png
END:VEVENT
END:VCALENDAR