BEGIN:VCALENDAR
VERSION:2.0
PRODID:-//Wapi2go - ECPv6.0.7.1//NONSGML v1.0//EN
CALSCALE:GREGORIAN
METHOD:PUBLISH
X-ORIGINAL-URL:https://wapi2go.com
X-WR-CALDESC:Events for Wapi2go
REFRESH-INTERVAL;VALUE=DURATION:PT1H
X-Robots-Tag:noindex
X-PUBLISHED-TTL:PT1H
BEGIN:VTIMEZONE
TZID:UTC
BEGIN:STANDARD
TZOFFSETFROM:+0000
TZOFFSETTO:+0000
TZNAME:UTC
DTSTART:20250101T000000
END:STANDARD
END:VTIMEZONE
BEGIN:VEVENT
DTSTART;TZID=UTC:20250514T100000
DTEND;TZID=UTC:20250514T130000
DTSTAMP:20260421T172852
CREATED:20250514T112340Z
LAST-MODIFIED:20250514T112340Z
UID:10001599-1747216800-1747227600@wapi2go.com
SUMMARY:PRINT MAKING TECHNIQUE CLASS
DESCRIPTION:AfriRafiki HLC wanakuletea PRINTMAKING TECHNIQUE CLASS (Kwa watoto na wakubwa)\nchini ya Msanii wa Sanaa za Uoni/Visual Arts Ms. SAFINA KIMBOKOTA @safinakimbokota (Mkufunzi wa Sanaa UDSM)\n🗓️ Ni J’mosi 17 May\, 2025\n⌚ Saa 04.00 asbh – 7.00 mchana\n📍 AfriRafiki – House of Languages\n& Culture @afrirafiki\nKigamboni – Gezaulole\nJumba la Maendeleo Mbuamaji\n(Near Geza Beach / DAWASA)\nKujiandikisha na maelezo zaidi: 0754950535
URL:https://wapi2go.com/event/print-making-technique-class/
LOCATION:AfriRafiki\, House of Language & Culture\, Gezaulole\, Kigamboni\, Tanzania\, United Republic of
CATEGORIES:Visual Arts
ATTACH;FMTTYPE=image/png:https://wapi2go.com/wp-content/uploads/2025/05/Print-making.png
END:VEVENT
END:VCALENDAR