BEGIN:VCALENDAR
VERSION:2.0
PRODID:-//Wapi2go - ECPv6.0.7.1//NONSGML v1.0//EN
CALSCALE:GREGORIAN
METHOD:PUBLISH
X-WR-CALNAME:Wapi2go
X-ORIGINAL-URL:https://wapi2go.com
X-WR-CALDESC:Events for Wapi2go
REFRESH-INTERVAL;VALUE=DURATION:PT1H
X-Robots-Tag:noindex
X-PUBLISHED-TTL:PT1H
BEGIN:VTIMEZONE
TZID:UTC
BEGIN:STANDARD
TZOFFSETFROM:+0000
TZOFFSETTO:+0000
TZNAME:UTC
DTSTART:20240101T000000
END:STANDARD
END:VTIMEZONE
BEGIN:VEVENT
DTSTART;VALUE=DATE:20241018
DTEND;VALUE=DATE:20241021
DTSTAMP:20260421T113136
CREATED:20240924T074341Z
LAST-MODIFIED:20240924T074341Z
UID:10001109-1729209600-1729468799@wapi2go.com
SUMMARY:JAMBO AFFAIRS
DESCRIPTION:Hellow Hellow!\n:\nHii ni kwa Wafanyabiashara wote Afrika Mashariki mnakaribishwa sana sana kushiriki Mnada wa Kishua utakaofanyika Arusha Mjini Viwanja vya General Tyre —Njiro\n:\nKwa mtonyo wa Laki 1 tu kwa siku 3 mfululizo\, tarehe 18\,19 & 20 Mwezi wa 10 mwaka huu huu 2024.\n….imagine kutakua na watu wasiopungua 2500 kwenye mwamvuli mmoja\, yani ni hiviii watu watakulaaaaa\, watashop mavitu makali makali ya kila aina na kunywaaaa 👌🏾\nBila kusahau michezo ya watoto utakuepo\, watoto wataenjoy kwa michezo yao ya aina zote.\n:\nYani ni kutengeneza pesa na kula Bataaaa!\n:\n#Usipange kukosa ndugu yangu\, njoo ufungue Moyo. \nKwa maelezo zaidi whatsapp no +255 752 960 397
URL:https://wapi2go.com/event/jambo-affairs/
LOCATION:General Tyre\, General Tyre\, Arusha\, Arusha\, Tanzania\, United Republic of
CATEGORIES:Popup Market
ATTACH;FMTTYPE=image/jpeg:https://wapi2go.com/wp-content/uploads/2024/09/JAMBO-AFFAIRS.jpg
END:VEVENT
END:VCALENDAR