BEGIN:VCALENDAR
VERSION:2.0
PRODID:-//Wapi2go - ECPv6.0.7.1//NONSGML v1.0//EN
CALSCALE:GREGORIAN
METHOD:PUBLISH
X-ORIGINAL-URL:https://wapi2go.com
X-WR-CALDESC:Events for Wapi2go
REFRESH-INTERVAL;VALUE=DURATION:PT1H
X-Robots-Tag:noindex
X-PUBLISHED-TTL:PT1H
BEGIN:VTIMEZONE
TZID:UTC
BEGIN:STANDARD
TZOFFSETFROM:+0000
TZOFFSETTO:+0000
TZNAME:UTC
DTSTART:20250101T000000
END:STANDARD
END:VTIMEZONE
BEGIN:VEVENT
DTSTART;TZID=UTC:20250516T083000
DTEND;TZID=UTC:20250516T110000
DTSTAMP:20260421T113928
CREATED:20250514T105218Z
LAST-MODIFIED:20250514T105358Z
UID:10001597-1747384200-1747393200@wapi2go.com
SUMMARY:OPPORTUNITIES FOR YOUTH: LEARN\, COMPETE AND WIN!!
DESCRIPTION:The EUROPEAN UNION YOUTH SOUNDING BOARD TANZANIA (EU-YSB) 🇪🇺🇹🇿\ninvites you to explore ‘Opportunities for Youth’ and take part in our dynamic session:\n“Compete & Win!” Happening at Tanzania Innovation Week 2025! \nLearn about scholarships and internships\nDiscover funding opportunities for startups\nPitch your ideas\nPlay interactive games\nWin exciting prizes!\nEvent Details:\nDate: Friday\, 16th May\nTime: 9:00 AM – 11:00 AM\nVenue: Youth Dome – JNICC \nRegister now: https://innovationweektanzania.org\nLimited slots available—secure yours today!
URL:https://wapi2go.com/event/opportunities-for-youth-learn-compete-and-win/
LOCATION:Julius nyerere international convetion center (JNICC)\, YOUTH DOME - JNICC\, Dar es salaam\, Tanzania\, United Republic of
CATEGORIES:Education,Popup Market
ATTACH;FMTTYPE=image/jpeg:https://wapi2go.com/wp-content/uploads/2025/05/DBD19037-1D10-4826-9E04-41AB581C.jpg
ORGANIZER;CN="cecilia%20lubango":MAILTO:dionizycecy@gmail.com
END:VEVENT
END:VCALENDAR