BEGIN:VCALENDAR
VERSION:2.0
PRODID:-//Wapi2go - ECPv6.0.7.1//NONSGML v1.0//EN
CALSCALE:GREGORIAN
METHOD:PUBLISH
X-ORIGINAL-URL:https://wapi2go.com
X-WR-CALDESC:Events for Wapi2go
REFRESH-INTERVAL;VALUE=DURATION:PT1H
X-Robots-Tag:noindex
X-PUBLISHED-TTL:PT1H
BEGIN:VTIMEZONE
TZID:Africa/Dar_es_Salaam
BEGIN:STANDARD
TZOFFSETFROM:+0300
TZOFFSETTO:+0300
TZNAME:EAT
DTSTART:20260101T000000
END:STANDARD
END:VTIMEZONE
BEGIN:VEVENT
DTSTART;VALUE=DATE:20260425
DTEND;VALUE=DATE:20260426
DTSTAMP:20260424T141255
CREATED:20260420T102421Z
LAST-MODIFIED:20260420T102421Z
UID:10002117-1777075200-1777161599@wapi2go.com
SUMMARY:THE FAMILY CONNECTION
DESCRIPTION:Fun-Filled Family Fiesta a day of fun\,food and Games
URL:https://wapi2go.com/event/the-family-connection/
LOCATION:Makongo juu ccm londa road\, Seanna Gardens\, Dsm\, Tanzania\, United Republic of
CATEGORIES:Dance,Food,Games,Popup Market,Visual Arts
ATTACH;FMTTYPE=image/jpeg:https://wapi2go.com/wp-content/uploads/2026/04/Family-Connect-1.jpg
ORGANIZER;CN="Sunny%20K":MAILTO:kagarukisunny@yahoo.com
END:VEVENT
END:VCALENDAR