BEGIN:VCALENDAR
VERSION:2.0
PRODID:-//Wapi2go - ECPv6.0.7.1//NONSGML v1.0//EN
CALSCALE:GREGORIAN
METHOD:PUBLISH
X-WR-CALNAME:Wapi2go
X-ORIGINAL-URL:https://wapi2go.com
X-WR-CALDESC:Events for Wapi2go
REFRESH-INTERVAL;VALUE=DURATION:PT1H
X-Robots-Tag:noindex
X-PUBLISHED-TTL:PT1H
BEGIN:VTIMEZONE
TZID:UTC
BEGIN:STANDARD
TZOFFSETFROM:+0000
TZOFFSETTO:+0000
TZNAME:UTC
DTSTART:20240101T000000
END:STANDARD
END:VTIMEZONE
BEGIN:VEVENT
DTSTART;VALUE=DATE:20240606
DTEND;VALUE=DATE:20240608
DTSTAMP:20260421T142243
CREATED:20240510T072026Z
LAST-MODIFIED:20240510T072754Z
UID:10000888-1717632000-1717804799@wapi2go.com
SUMMARY:WILDSCREEN FESTIVAL TANZANIA
DESCRIPTION:Join us for a new\, stand-alone two-day Wildscreen Festival in Tanzania\, one of the most actively filmed parts of the natural world. \nBuilding on the success of the Wildscreen Festival Nairobi 2023 and with support from BBC Studios Natural History Unit\, we’re proud to be hosting a new mini festival in Tanzania in partnership with AFRISOS\, highlighting the importance of Tanzania and its storytellers\, and cementing its position as a top wildlife filming destination in Africa. The programme will speak to our four content pillars: Craft\, Business\, Talent and Impact. Book your tickets today and join us for a packed two-day programme full of headline speakers\, panel sessions\, networking and film screenings. \nTickets: Full Festival Pass = £55 \,Concession Festival Pass = £28 \nPlease note that prices are based on your IP address and will be converted from GBP depending on geographical location. \nVenue: Mount Meru Hotel\, Arusha Date: Thursday 06 June – Friday 07 June 2024
URL:https://wapi2go.com/event/wildscreen-festival-tanzania-2/
LOCATION:Mount Meru Hotel\, Mount Meru Hotel\, Arusha\, Arusha\, Tanzania\, United Republic of
CATEGORIES:Education,Movie & Films,Visual Arts
ATTACH;FMTTYPE=image/jpeg:https://wapi2go.com/wp-content/uploads/2024/04/wildscreenorg_1713892978498.jpeg
ORGANIZER;CN="WILDSCREEN":MAILTO:hello@wildscreen.org
END:VEVENT
END:VCALENDAR