BEGIN:VCALENDAR
VERSION:2.0
PRODID:-//Wapi2go - ECPv6.0.7.1//NONSGML v1.0//EN
CALSCALE:GREGORIAN
METHOD:PUBLISH
X-ORIGINAL-URL:https://wapi2go.com
X-WR-CALDESC:Events for Wapi2go
REFRESH-INTERVAL;VALUE=DURATION:PT1H
X-Robots-Tag:noindex
X-PUBLISHED-TTL:PT1H
BEGIN:VTIMEZONE
TZID:UTC
BEGIN:STANDARD
TZOFFSETFROM:+0000
TZOFFSETTO:+0000
TZNAME:UTC
DTSTART:20240101T000000
END:STANDARD
END:VTIMEZONE
BEGIN:VEVENT
DTSTART;VALUE=DATE:20240316
DTEND;VALUE=DATE:20240317
DTSTAMP:20260422T054153
CREATED:20240307T040025Z
LAST-MODIFIED:20240307T040025Z
UID:10000832-1710547200-1710633599@wapi2go.com
SUMMARY:TWENZETU PUGU HILLS
DESCRIPTION:Twenzetu Pugu Hills  16/3/2024.. Gharama 48000 Kila kitu kuanzia Activities\, chakula\, usafiri viingilio\, wewe beba nguo tu😀….\nNI TRIP ya kuenjoy\, kurelax na kukutana na watu wapya…..\nKubook seat yako call /watsap 0744367767 uungwe kwa grup la safari.. Safari tunayooo.. \nPia follow account yetu kwa trips nyingi zaidi @debztours_\n@debztours_\n@debztours_
URL:https://wapi2go.com/event/twenzetu-pugu-hills/
LOCATION:PUGU HILLS\, Pugu Hills\,Kisarawe Road\, Dar es Salaam\, Dar es Salaam\, Tanzania\, United Republic of
CATEGORIES:Visual Arts
ATTACH;FMTTYPE=image/jpeg:https://wapi2go.com/wp-content/uploads/2024/03/TWENZETU-PUGU.jpeg
END:VEVENT
END:VCALENDAR