BEGIN:VCALENDAR
VERSION:2.0
PRODID:-//Wapi2go - ECPv6.0.7.1//NONSGML v1.0//EN
CALSCALE:GREGORIAN
METHOD:PUBLISH
X-ORIGINAL-URL:https://wapi2go.com
X-WR-CALDESC:Events for Wapi2go
REFRESH-INTERVAL;VALUE=DURATION:PT1H
X-Robots-Tag:noindex
X-PUBLISHED-TTL:PT1H
BEGIN:VTIMEZONE
TZID:UTC
BEGIN:STANDARD
TZOFFSETFROM:+0000
TZOFFSETTO:+0000
TZNAME:UTC
DTSTART:20240101T000000
END:STANDARD
END:VTIMEZONE
BEGIN:VEVENT
DTSTART;VALUE=DATE:20240413
DTEND;VALUE=DATE:20240414
DTSTAMP:20260424T130801
CREATED:20240408T103547Z
LAST-MODIFIED:20240408T105824Z
UID:10000868-1712966400-1713052799@wapi2go.com
SUMMARY:POP - UP MARKET
DESCRIPTION:Je wewe ni mfanya biashara na unatamani kuikuza biashara yako\, kukutana na wateja wapya na kupata connection itakayosaidia biashara yako? \nHii ni yakwako. \nKwa 50\,000 tuu unaweza ku-book space kwenye event yetu itakayofanyika tarehe 13 April siku ya Jumamosi pale Rafikizi\, Mwai Kibaki Road @rafikiz_tz \nKutakua na ofa kabambe na garage sale\nUna ngoja nini?\nTupigie sasa kupitia +255 758 550 421 leo na kuweka nafasi yako. \nN.B: Nafasi zimebaki chache. Lipia mapema
URL:https://wapi2go.com/event/pop-up-market-2/
LOCATION:Rafikiz\, RAFIKIZ\, Dar es Salaam\, Dar es Salaam\, Tanzania\, United Republic of
CATEGORIES:Popup Market
ATTACH;FMTTYPE=image/jpeg:https://wapi2go.com/wp-content/uploads/2024/04/POP-UP-MARKET.jpeg
END:VEVENT
END:VCALENDAR