BEGIN:VCALENDAR
VERSION:2.0
PRODID:-//Wapi2go - ECPv6.0.7.1//NONSGML v1.0//EN
CALSCALE:GREGORIAN
METHOD:PUBLISH
X-ORIGINAL-URL:https://wapi2go.com
X-WR-CALDESC:Events for Wapi2go
REFRESH-INTERVAL;VALUE=DURATION:PT1H
X-Robots-Tag:noindex
X-PUBLISHED-TTL:PT1H
BEGIN:VTIMEZONE
TZID:UTC
BEGIN:STANDARD
TZOFFSETFROM:+0000
TZOFFSETTO:+0000
TZNAME:UTC
DTSTART:20230101T000000
END:STANDARD
TZID:Africa/Dar_es_Salaam
BEGIN:STANDARD
TZOFFSETFROM:+0300
TZOFFSETTO:+0300
TZNAME:EAT
DTSTART:20250101T000000
END:STANDARD
END:VTIMEZONE
BEGIN:VEVENT
DTSTART;VALUE=DATE:20230805
DTEND;VALUE=DATE:20230806
DTSTAMP:20260421T094704
CREATED:20230714T032841Z
LAST-MODIFIED:20230714T032841Z
UID:10000535-1691193600-1691279999@wapi2go.com
SUMMARY:Open market
DESCRIPTION:Shopping event
URL:https://wapi2go.com/event/open-market-2/
LOCATION:swiss garden\, Kinondoni\, Dar es salaam\, Tanzania\, United Republic of
CATEGORIES:Popup Market
ATTACH;FMTTYPE=image/png:https://wapi2go.com/wp-content/uploads/2023/07/Stay-tuned-1.png
END:VEVENT
BEGIN:VEVENT
DTSTART;TZID=Africa/Dar_es_Salaam:20251004T180000
DTEND;TZID=Africa/Dar_es_Salaam:20251004T180000
DTSTAMP:20260421T094704
CREATED:20250930T222753Z
LAST-MODIFIED:20250930T222753Z
UID:10001829-1759600800-1759600800@wapi2go.com
SUMMARY:BEER FESTIVAL!!
DESCRIPTION:BEER FESTIVAL🍺🍻🍺🍺 \nSEASON 20/2025 🔥🔥🔥🔥🔥🔥\n🍺🍺🍺🍺 BACK TO BACK 🔥🔥🔥 \nJUMAMOS HII 4\, OKTOBA\,2025\nNi ile ile Event yetu pendwa ya kuitwa\nBEER FESTIVAL. \nMsimu huu TUNAEKUJA Kivingine kabisa Bila kusahau BIA ZOTE utazipata kwa Tsh 1000 tu yani BUKU BUKU 🔥#bukubuku \nHiii sio ya kukosa Tunaita Mwisho wa mwezi\,4 Oktoba Wajanja wote Tunakutana katika Vibe 1 tu #swissgarden \nNjoo Tukipata vibe la pamoja la mwanzo wa mwezi ukikutana na marafiki mbalimbali \n#mwambiemwezionamwezioamwambiemwezie. \nKTK moja na Mbili tutakuwa na SWISSGARDEN Dj’s pamoja na Surprise ya GUESTS DJ\, \nMLANGONI WADADA WOTE KIINGILIO 5K \nBila kusahau Tunakuwa na VIP TABLE reserve Table yako Mapema kupunguza Usumbufu \nVIP TABLE ZIMEBAKI CHACHE \nfore more information tupigie\n0766666656/0622444447.
URL:https://wapi2go.com/event/beer-festival/
LOCATION:swiss garden\, Kinondoni\, Dar es salaam\, Tanzania\, United Republic of
CATEGORIES:Dance,Food,Music & Concerts,Popup Market
ATTACH;FMTTYPE=image/jpeg:https://wapi2go.com/wp-content/uploads/2025/10/Beer-Festival.jpg
END:VEVENT
END:VCALENDAR