BEGIN:VCALENDAR
VERSION:2.0
PRODID:-//Wapi2go - ECPv6.0.7.1//NONSGML v1.0//EN
CALSCALE:GREGORIAN
METHOD:PUBLISH
X-WR-CALNAME:Wapi2go
X-ORIGINAL-URL:https://wapi2go.com
X-WR-CALDESC:Events for Wapi2go
REFRESH-INTERVAL;VALUE=DURATION:PT1H
X-Robots-Tag:noindex
X-PUBLISHED-TTL:PT1H
BEGIN:VTIMEZONE
TZID:UTC
BEGIN:STANDARD
TZOFFSETFROM:+0000
TZOFFSETTO:+0000
TZNAME:UTC
DTSTART:20240101T000000
END:STANDARD
END:VTIMEZONE
BEGIN:VEVENT
DTSTART;TZID=UTC:20241214T140000
DTEND;TZID=UTC:20241214T140000
DTSTAMP:20260421T113539
CREATED:20241117T141328Z
LAST-MODIFIED:20241117T141611Z
UID:10001224-1734184800-1734184800@wapi2go.com
SUMMARY:SIP AND PAINT!
DESCRIPTION:Looking for a creative escape? Join our next paint and sip event!\nCome sip and socialize as you paint your own masterpiece\, you get to take home.\nREMEMBER: No experience required. \n14/12/2024 at Hut of wine – Dodoma. \nTicket are AVAILABLE 🎫\nFor more information contact us through 0782 262 912!
URL:https://wapi2go.com/event/paint-sip/
LOCATION:Teveli’s Corporate Events\, Hut of Wine and Cheese\, Dodoma\, Tanzania\, United Republic of
CATEGORIES:Visual Arts
ATTACH;FMTTYPE=image/png:https://wapi2go.com/wp-content/uploads/2024/11/Dodoma.png
END:VEVENT
END:VCALENDAR