BEGIN:VCALENDAR
VERSION:2.0
PRODID:-//Wapi2go - ECPv6.0.7.1//NONSGML v1.0//EN
CALSCALE:GREGORIAN
METHOD:PUBLISH
X-WR-CALNAME:Wapi2go
X-ORIGINAL-URL:https://wapi2go.com
X-WR-CALDESC:Events for Wapi2go
REFRESH-INTERVAL;VALUE=DURATION:PT1H
X-Robots-Tag:noindex
X-PUBLISHED-TTL:PT1H
BEGIN:VTIMEZONE
TZID:UTC
BEGIN:STANDARD
TZOFFSETFROM:+0000
TZOFFSETTO:+0000
TZNAME:UTC
DTSTART:20240101T000000
END:STANDARD
END:VTIMEZONE
BEGIN:VEVENT
DTSTART;VALUE=DATE:20240622
DTEND;VALUE=DATE:20240623
DTSTAMP:20260422T052728
CREATED:20240520T055205Z
LAST-MODIFIED:20240616T184149Z
UID:10000915-1719014400-1719100799@wapi2go.com
SUMMARY:FULL MOON IN DAR
DESCRIPTION:Full moon in Dar event due to take place on 22 June at Ununio beach (Dynasty)\nIn a nutshell\, unlike any other full moon party\, taking place on a Mangrove forest beach\, the proposed is a 24-hour tri-factor event aimed at unleashing set experiences of intense physical children games\, beach clean-up & officially set out the venue as a hub for mangrove seedlings\, and finally the all-night intense party under the moonlight.
URL:https://wapi2go.com/event/full-moon-in-dar/
LOCATION:UNUNIO BEACH\, UNUNIO BEACH\, Dar es Salaam\, Dar - es - Salaam\, Tanzania\, United Republic of
CATEGORIES:Visual Arts
ATTACH;FMTTYPE=image/jpeg:https://wapi2go.com/wp-content/uploads/2024/05/A3-poster-full-moon-in-dar2-scaled.jpg
END:VEVENT
END:VCALENDAR